BEGIN:VCALENDAR
VERSION:2.0
PRODID:-//jEvents 2.0 for Joomla//EN
CALSCALE:GREGORIAN
METHOD:PUBLISH
BEGIN:VTIMEZONE
TZID:Europe/Paris
BEGIN:STANDARD
DTSTART:20251026T020000
RDATE:20260329T030000
TZOFFSETFROM:+0200
TZOFFSETTO:+0100
TZNAME:Europe/Paris CET
END:STANDARD
BEGIN:STANDARD
DTSTART:20261025T020000
RDATE:20270328T030000
TZOFFSETFROM:+0200
TZOFFSETTO:+0100
TZNAME:Europe/Paris CET
END:STANDARD
BEGIN:STANDARD
DTSTART:20271031T020000
RDATE:20280326T030000
TZOFFSETFROM:+0200
TZOFFSETTO:+0100
TZNAME:Europe/Paris CET
END:STANDARD
BEGIN:STANDARD
DTSTART:20281029T020000
RDATE:20290325T030000
TZOFFSETFROM:+0200
TZOFFSETTO:+0100
TZNAME:Europe/Paris CET
END:STANDARD
BEGIN:STANDARD
DTSTART:20291028T020000
RDATE:20300331T030000
TZOFFSETFROM:+0200
TZOFFSETTO:+0100
TZNAME:Europe/Paris CET
END:STANDARD
BEGIN:STANDARD
DTSTART:20301027T020000
RDATE:20310330T030000
TZOFFSETFROM:+0200
TZOFFSETTO:+0100
TZNAME:Europe/Paris CET
END:STANDARD
BEGIN:DAYLIGHT
DTSTART:20250707T000000
RDATE:20251026T020000
TZOFFSETFROM:+0100
TZOFFSETTO:+0200
TZNAME:Europe/Paris CEST
END:DAYLIGHT
BEGIN:DAYLIGHT
DTSTART:20260329T030000
RDATE:20261025T020000
TZOFFSETFROM:+0100
TZOFFSETTO:+0200
TZNAME:Europe/Paris CEST
END:DAYLIGHT
BEGIN:DAYLIGHT
DTSTART:20270328T030000
RDATE:20271031T020000
TZOFFSETFROM:+0100
TZOFFSETTO:+0200
TZNAME:Europe/Paris CEST
END:DAYLIGHT
BEGIN:DAYLIGHT
DTSTART:20280326T030000
RDATE:20281029T020000
TZOFFSETFROM:+0100
TZOFFSETTO:+0200
TZNAME:Europe/Paris CEST
END:DAYLIGHT
BEGIN:DAYLIGHT
DTSTART:20290325T030000
RDATE:20291028T020000
TZOFFSETFROM:+0100
TZOFFSETTO:+0200
TZNAME:Europe/Paris CEST
END:DAYLIGHT
BEGIN:DAYLIGHT
DTSTART:20300331T030000
RDATE:20301027T020000
TZOFFSETFROM:+0100
TZOFFSETTO:+0200
TZNAME:Europe/Paris CEST
END:DAYLIGHT
END:VTIMEZONE
BEGIN:VEVENT
UID:3d94b7741761c0600891aab899b3f049
CATEGORIES:CIRP Conferences
CREATED:20240910T115316
SUMMARY:20th CIRP Conference on Intelligent Computation - CIRP ICME 2026
URL;VALUE=URI:https://dev.cirp.net/event-detail/icalrepeat.detail/2026/07/08/2146/-/20th-
 cirp-conference-on-intelligent-computation-cirp-icme-2026.html?tmpl=compone
 nt
DESCRIPTION:The 20th CIRP Conference on Intelligent Computation in Manufacturing Engine
 ering - CIRP ICME 2026 will be held in Gulf of Naples on July 8-10, 2026.\n
 Website :\n This event was imported from: https://dev.cirp.net/event-detail
 /icalrepeat.detail/2026/07/08/2146/-/20th-cirp-conference-on-intelligent-co
 mputation-cirp-icme-2026.html?tmpl=component
X-ALT-DESC;FMTTYPE=text/html:<p><span style="font-size: 1rem;">The </span><span style="color: #800000;">
 <strong>20th CIRP Conference on Intelligent Computation in Manufacturing En
 gineering - CIRP ICME 2026</strong></span><span style="font-size: 1rem;"> w
 ill be held in Gulf of Naples on July 8-10, 2026.</span></p><p>Website :</p
 > <a href="https://dev.cirp.net/event-detail/icalrepeat.detail/2026/07/08/2
 146/-/20th-cirp-conference-on-intelligent-computation-cirp-icme-2026.html?t
 mpl=component">This event was imported from: https://dev.cirp.net/event-det
 ail/icalrepeat.detail/2026/07/08/2146/-/20th-cirp-conference-on-intelligent
 -computation-cirp-icme-2026.html?tmpl=component</a>DTSTAMP:20260420T105523
DTSTART;TZID=Europe/Paris;VALUE=DATE:20260708
DTEND;TZID=Europe/Paris;VALUE=DATE:20260711
SEQUENCE:0
TRANSP:OPAQUE
END:VEVENT
END:VCALENDAR