BEGIN:VCALENDAR
VERSION:2.0
PRODID:-//jEvents 2.0 for Joomla//EN
CALSCALE:GREGORIAN
METHOD:PUBLISH
BEGIN:VTIMEZONE
TZID:Europe/Paris
BEGIN:STANDARD
DTSTART:20261025T020000
RDATE:20270328T030000
TZOFFSETFROM:+0200
TZOFFSETTO:+0100
TZNAME:Europe/Paris CET
END:STANDARD
BEGIN:STANDARD
DTSTART:20271031T020000
RDATE:20280326T030000
TZOFFSETFROM:+0200
TZOFFSETTO:+0100
TZNAME:Europe/Paris CET
END:STANDARD
BEGIN:STANDARD
DTSTART:20281029T020000
RDATE:20290325T030000
TZOFFSETFROM:+0200
TZOFFSETTO:+0100
TZNAME:Europe/Paris CET
END:STANDARD
BEGIN:STANDARD
DTSTART:20291028T020000
RDATE:20300331T030000
TZOFFSETFROM:+0200
TZOFFSETTO:+0100
TZNAME:Europe/Paris CET
END:STANDARD
BEGIN:STANDARD
DTSTART:20301027T020000
RDATE:20310330T030000
TZOFFSETFROM:+0200
TZOFFSETTO:+0100
TZNAME:Europe/Paris CET
END:STANDARD
BEGIN:DAYLIGHT
DTSTART:20260430T000000
RDATE:20261025T020000
TZOFFSETFROM:+0100
TZOFFSETTO:+0200
TZNAME:Europe/Paris CEST
END:DAYLIGHT
BEGIN:DAYLIGHT
DTSTART:20270328T030000
RDATE:20271031T020000
TZOFFSETFROM:+0100
TZOFFSETTO:+0200
TZNAME:Europe/Paris CEST
END:DAYLIGHT
BEGIN:DAYLIGHT
DTSTART:20280326T030000
RDATE:20281029T020000
TZOFFSETFROM:+0100
TZOFFSETTO:+0200
TZNAME:Europe/Paris CEST
END:DAYLIGHT
BEGIN:DAYLIGHT
DTSTART:20290325T030000
RDATE:20291028T020000
TZOFFSETFROM:+0100
TZOFFSETTO:+0200
TZNAME:Europe/Paris CEST
END:DAYLIGHT
BEGIN:DAYLIGHT
DTSTART:20300331T030000
RDATE:20301027T020000
TZOFFSETFROM:+0100
TZOFFSETTO:+0200
TZNAME:Europe/Paris CEST
END:DAYLIGHT
END:VTIMEZONE
BEGIN:VEVENT
UID:92a970775be15b2794ada98e62fa492e
CATEGORIES:CIRP Conferences
CREATED:20250307T125448
SUMMARY:21st CIRP Conference on Modelling Machining Operations
URL;VALUE=URI:https://dev.cirp.net/event-detail/icalrepeat.detail/2027/05/01/2671/-/21st-
 cirp-conference-on-modelling-machining-operations.html?tmpl=component
DESCRIPTION:The 21st CIRP Conference on Modelling Machining Operations (CIRP MMO 2027) 
 will be held in Shanghai, PR China on May 2027 (more precision later)\n Thi
 s event was imported from: https://dev.cirp.net/event-detail/icalrepeat.det
 ail/2027/05/01/2671/-/21st-cirp-conference-on-modelling-machining-operation
 s.html?tmpl=component
X-ALT-DESC;FMTTYPE=text/html:<p>The <strong><span style="color: rgb(128, 0, 0);">21st</span><span style=
 "color: #800000;"><strong> </strong>CIRP Conference on Modelling Machining 
 Operations (CIRP MMO 2027)</span> </strong>will be held in Shanghai, PR Chi
 na on May 2027 (more precision later)</p> <a href="https://dev.cirp.net/eve
 nt-detail/icalrepeat.detail/2027/05/01/2671/-/21st-cirp-conference-on-model
 ling-machining-operations.html?tmpl=component">This event was imported from
 : https://dev.cirp.net/event-detail/icalrepeat.detail/2027/05/01/2671/-/21s
 t-cirp-conference-on-modelling-machining-operations.html?tmpl=component</a>DTSTAMP:20260421T002459
DTSTART;TZID=Europe/Paris;VALUE=DATE:20270501
DTEND;TZID=Europe/Paris;VALUE=DATE:20270502
SEQUENCE:0
TRANSP:OPAQUE
END:VEVENT
END:VCALENDAR