BEGIN:VCALENDAR
VERSION:2.0
PRODID:-//jEvents 2.0 for Joomla//EN
CALSCALE:GREGORIAN
METHOD:PUBLISH
BEGIN:VTIMEZONE
TZID:Europe/Paris
BEGIN:STANDARD
DTSTART:20251026T020000
RDATE:20260329T030000
TZOFFSETFROM:+0200
TZOFFSETTO:+0100
TZNAME:Europe/Paris CET
END:STANDARD
BEGIN:STANDARD
DTSTART:20261025T020000
RDATE:20270328T030000
TZOFFSETFROM:+0200
TZOFFSETTO:+0100
TZNAME:Europe/Paris CET
END:STANDARD
BEGIN:STANDARD
DTSTART:20271031T020000
RDATE:20280326T030000
TZOFFSETFROM:+0200
TZOFFSETTO:+0100
TZNAME:Europe/Paris CET
END:STANDARD
BEGIN:STANDARD
DTSTART:20281029T020000
RDATE:20290325T030000
TZOFFSETFROM:+0200
TZOFFSETTO:+0100
TZNAME:Europe/Paris CET
END:STANDARD
BEGIN:STANDARD
DTSTART:20291028T020000
RDATE:20300331T030000
TZOFFSETFROM:+0200
TZOFFSETTO:+0100
TZNAME:Europe/Paris CET
END:STANDARD
BEGIN:STANDARD
DTSTART:20301027T020000
RDATE:20310330T030000
TZOFFSETFROM:+0200
TZOFFSETTO:+0100
TZNAME:Europe/Paris CET
END:STANDARD
BEGIN:DAYLIGHT
DTSTART:20250601T000000
RDATE:20251026T020000
TZOFFSETFROM:+0100
TZOFFSETTO:+0200
TZNAME:Europe/Paris CEST
END:DAYLIGHT
BEGIN:DAYLIGHT
DTSTART:20260329T030000
RDATE:20261025T020000
TZOFFSETFROM:+0100
TZOFFSETTO:+0200
TZNAME:Europe/Paris CEST
END:DAYLIGHT
BEGIN:DAYLIGHT
DTSTART:20270328T030000
RDATE:20271031T020000
TZOFFSETFROM:+0100
TZOFFSETTO:+0200
TZNAME:Europe/Paris CEST
END:DAYLIGHT
BEGIN:DAYLIGHT
DTSTART:20280326T030000
RDATE:20281029T020000
TZOFFSETFROM:+0100
TZOFFSETTO:+0200
TZNAME:Europe/Paris CEST
END:DAYLIGHT
BEGIN:DAYLIGHT
DTSTART:20290325T030000
RDATE:20291028T020000
TZOFFSETFROM:+0100
TZOFFSETTO:+0200
TZNAME:Europe/Paris CEST
END:DAYLIGHT
BEGIN:DAYLIGHT
DTSTART:20300331T030000
RDATE:20301027T020000
TZOFFSETFROM:+0100
TZOFFSETTO:+0200
TZNAME:Europe/Paris CEST
END:DAYLIGHT
END:VTIMEZONE
BEGIN:VEVENT
UID:f7df4f18b19961a7040788c3dce2392d
CATEGORIES:CIRP Sponsored Conferences
CREATED:20250905T140502
SUMMARY:13th International Conference Through-Life Engineering Services (TESConf 2026)
URL;VALUE=URI:https://dev.cirp.net/event-detail/icalrepeat.detail/2026/06/02/2684/-/13th-
 international-conference-through-life-engineering-services-tesconf-2026.htm
 l?tmpl=component
DESCRIPTION:<p><span style="font-family: arial, helvetica, sans-serif; font-size: 14px;
 "><span style="color: rgb(51, 51, 51); font-style: normal; font-weight: 400
 ; letter-spacing: normal; orphans: 2; text-align: -webkit-left; text-indent
 : 0px; text-transform: none; white-space: normal; widows: 2; word-spacing: 
 0px; float: none;"><span style="color: rgb(51, 51, 51); font-family: Numans
 , sans-serif; font-size: 13px; font-style: normal; font-weight: 400; letter
 -spacing: normal; orphans: 2; text-align: -webkit-left; text-indent: 0px; t
 ext-transform: none; white-space: normal; widows: 2; word-spacing: 0px; flo
 at: none;">The</span><strong style="font-weight: bold; color: rgb(51, 51, 5
 1); font-family: Numans, sans-serif; font-size: 13px; font-style: normal; l
 etter-spacing: normal; orphans: 2; text-align: -webkit-left; text-indent: 0
 px; text-transform: none; white-space: normal; widows: 2; word-spacing: 0px
 ;"> <span style="color: #800000;">13th Conference Through-Life Engineering 
 Services - </span><strong style="font-weight: bold;"><span style="color: #8
 00000;">TESConf 2026</span> -</strong></strong><span style="color: rgb(51, 
 51, 51); font-family: Numans, sans-serif; font-size: 13px; font-style: norm
 al; font-weight: 400; letter-spacing: normal; orphans: 2; text-align: -webk
 it-left; text-indent: 0px; text-transform: none; white-space: normal; widow
 s: 2; word-spacing: 0px; float: none;"> will be held in Cranfield, UK on Ju
 ne 2-3, 2026.</span></span></span></p><p><strong>Website</strong>: </p> <a 
 href="https://dev.cirp.net/event-detail/icalrepeat.detail/2026/06/02/2684/-
 /13th-international-conference-through-life-engineering-services-tesconf-20
 26.html?tmpl=component">This event was imported from: https://dev.cirp.net/
 event-detail/icalrepeat.detail/2026/06/02/2684/-/13th-international-confere
 nce-through-life-engineering-services-tesconf-2026.html?tmpl=component</a>DTSTAMP:20260420T105955
DTSTART;TZID=Europe/Paris;VALUE=DATE:20260602
DTEND;TZID=Europe/Paris;VALUE=DATE:20260604
SEQUENCE:0
TRANSP:OPAQUE
END:VEVENT
END:VCALENDAR