BEGIN:VCALENDAR
VERSION:2.0
PRODID:-//jEvents 2.0 for Joomla//EN
CALSCALE:GREGORIAN
METHOD:PUBLISH
BEGIN:VTIMEZONE
TZID:Europe/Paris
BEGIN:STANDARD
DTSTART:20241102T000000
RDATE:20250330T030000
TZOFFSETFROM:+0200
TZOFFSETTO:+0100
TZNAME:Europe/Paris CET
END:STANDARD
BEGIN:STANDARD
DTSTART:20251026T020000
RDATE:20260329T030000
TZOFFSETFROM:+0200
TZOFFSETTO:+0100
TZNAME:Europe/Paris CET
END:STANDARD
BEGIN:STANDARD
DTSTART:20261025T020000
RDATE:20270328T030000
TZOFFSETFROM:+0200
TZOFFSETTO:+0100
TZNAME:Europe/Paris CET
END:STANDARD
BEGIN:STANDARD
DTSTART:20271031T020000
RDATE:20280326T030000
TZOFFSETFROM:+0200
TZOFFSETTO:+0100
TZNAME:Europe/Paris CET
END:STANDARD
BEGIN:STANDARD
DTSTART:20281029T020000
RDATE:20290325T030000
TZOFFSETFROM:+0200
TZOFFSETTO:+0100
TZNAME:Europe/Paris CET
END:STANDARD
BEGIN:STANDARD
DTSTART:20291028T020000
RDATE:20300331T030000
TZOFFSETFROM:+0200
TZOFFSETTO:+0100
TZNAME:Europe/Paris CET
END:STANDARD
BEGIN:STANDARD
DTSTART:20301027T020000
RDATE:20310330T030000
TZOFFSETFROM:+0200
TZOFFSETTO:+0100
TZNAME:Europe/Paris CET
END:STANDARD
BEGIN:DAYLIGHT
DTSTART:20250330T030000
RDATE:20251026T020000
TZOFFSETFROM:+0100
TZOFFSETTO:+0200
TZNAME:Europe/Paris CEST
END:DAYLIGHT
BEGIN:DAYLIGHT
DTSTART:20260329T030000
RDATE:20261025T020000
TZOFFSETFROM:+0100
TZOFFSETTO:+0200
TZNAME:Europe/Paris CEST
END:DAYLIGHT
BEGIN:DAYLIGHT
DTSTART:20270328T030000
RDATE:20271031T020000
TZOFFSETFROM:+0100
TZOFFSETTO:+0200
TZNAME:Europe/Paris CEST
END:DAYLIGHT
BEGIN:DAYLIGHT
DTSTART:20280326T030000
RDATE:20281029T020000
TZOFFSETFROM:+0100
TZOFFSETTO:+0200
TZNAME:Europe/Paris CEST
END:DAYLIGHT
BEGIN:DAYLIGHT
DTSTART:20290325T030000
RDATE:20291028T020000
TZOFFSETFROM:+0100
TZOFFSETTO:+0200
TZNAME:Europe/Paris CEST
END:DAYLIGHT
BEGIN:DAYLIGHT
DTSTART:20300331T030000
RDATE:20301027T020000
TZOFFSETFROM:+0100
TZOFFSETTO:+0200
TZNAME:Europe/Paris CEST
END:DAYLIGHT
END:VTIMEZONE
BEGIN:VEVENT
UID:6a7c0498b89408e475f23fdba0418293
CATEGORIES:CIRP School Session
CREATED:20250916T110701
SUMMARY:2nd CIRP School Session - Manufacturing for Sustainability
URL;VALUE=URI:https://dev.cirp.net/event-detail/icalrepeat.detail/2025/11/03/2686/-/2nd-c
 irp-school-session-manufacturing-for-sustainability.html?tmpl=component
DESCRIPTION:The 2nd CIRP School Session on "Manufacturing for Sustainability” will be h
 eld from 3rd to 7th November 2025 at Politecnico di Torino, Turin, Italy.\n
 Please click here (images/cirpfichiers/publicfiles/Conferences/2nd_cirp_sch
 ool_manufacturing_for_sustainability.pdf) for more information.\n This even
 t was imported from: https://dev.cirp.net/event-detail/icalrepeat.detail/20
 25/11/03/2686/-/2nd-cirp-school-session-manufacturing-for-sustainability.ht
 ml?tmpl=component
X-ALT-DESC;FMTTYPE=text/html:<p>The <span style="color: rgb(186, 55, 42);"><strong>2nd<span style="color
 : rgb(186, 55, 42);"> </span>CIRP School Session on "Manufacturing for Sust
 ainability”</strong></span> will be held from 3rd to 7th November 2025 at P
 olitecnico di Torino, Turin, Italy.</p><p>Please click <a href="https://dev
 .cirp.net/images/cirpfichiers/publicfiles/Conferences/2nd_cirp_school_manuf
 acturing_for_sustainability.pdf"><strong>here</strong></a> for more informa
 tion.</p> <a href="https://dev.cirp.net/event-detail/icalrepeat.detail/2025
 /11/03/2686/-/2nd-cirp-school-session-manufacturing-for-sustainability.html
 ?tmpl=component">This event was imported from: https://dev.cirp.net/event-d
 etail/icalrepeat.detail/2025/11/03/2686/-/2nd-cirp-school-session-manufactu
 ring-for-sustainability.html?tmpl=component</a>DTSTAMP:20260422T034920
DTSTART;TZID=Europe/Paris;VALUE=DATE:20251103
DTEND;TZID=Europe/Paris;VALUE=DATE:20251108
SEQUENCE:0
TRANSP:OPAQUE
END:VEVENT
END:VCALENDAR